BEGIN:VCALENDAR
VERSION:2.0
PRODID:icalendar-ruby
CALSCALE:GREGORIAN
BEGIN:VEVENT
DTSTAMP:20210119T115928Z
UID:425b0e5b-6a72-4532-9043-4219d87a2251
DTSTART;VALUE=DATE:20210121
DESCRIPTION:Property ID# 498934\, Locatoin: In rooms\, Time: 12:00PM
SUMMARY:Auction for 16 Kohunga Crescent
END:VEVENT
END:VCALENDAR
