BEGIN:VCALENDAR
VERSION:2.0
PRODID:icalendar-ruby
CALSCALE:GREGORIAN
BEGIN:VEVENT
DTSTAMP:20210119T115925Z
UID:1a605047-82fd-4c66-8afc-926bc0e6c0db
DTSTART;VALUE=DATE:20210211
DESCRIPTION:Property ID# 499568\, Time: 10:00AM
SUMMARY:Auction for 27 Mataroa Street
END:VEVENT
END:VCALENDAR
