BEGIN:VCALENDAR
VERSION:2.0
PRODID:icalendar-ruby
CALSCALE:GREGORIAN
BEGIN:VEVENT
DTSTAMP:20210119T115927Z
UID:cf29020b-cd49-415e-a4d3-782e73144901
DTSTART;TZID=Pacific/Auckland:20210117T130000
DTEND;TZID=Pacific/Auckland:20210117T133000
DESCRIPTION:Property ID# 498934
SUMMARY:Openhome for 16 Kohunga Crescent
END:VEVENT
END:VCALENDAR
