BEGIN:VCALENDAR
VERSION:2.0
PRODID:icalendar-ruby
CALSCALE:GREGORIAN
BEGIN:VEVENT
DTSTAMP:20210119T115953Z
UID:5673f20c-5f65-43ec-889a-47da676ae218
DTSTART;TZID=Pacific/Auckland:20210117T120000
DTEND;TZID=Pacific/Auckland:20210117T123000
DESCRIPTION:Property ID# 495119
SUMMARY:Openhome for 142 Lake Terrace Rd
END:VEVENT
END:VCALENDAR
