BEGIN:VCALENDAR
VERSION:2.0
PRODID:icalendar-ruby
CALSCALE:GREGORIAN
BEGIN:VEVENT
DTSTAMP:20210119T115924Z
UID:cd40c1ea-a0b5-4da4-ac49-f40349d6ce55
DTSTART;TZID=Pacific/Auckland:20210117T130000
DTEND;TZID=Pacific/Auckland:20210117T134500
DESCRIPTION:Property ID# 499568
SUMMARY:Openhome for 27 Mataroa Street
END:VEVENT
END:VCALENDAR
