BEGIN:VCALENDAR
VERSION:2.0
PRODID:icalendar-ruby
CALSCALE:GREGORIAN
BEGIN:VEVENT
DTSTAMP:20210119T115917Z
UID:61d3ec1c-557c-459b-9816-20ff431b874a
DTSTART;TZID=Pacific/Auckland:20210124T110000
DTEND;TZID=Pacific/Auckland:20210124T120000
DESCRIPTION:Property ID# 499492
SUMMARY:Openhome for 307 New Brighton Road
END:VEVENT
END:VCALENDAR
