BEGIN:VCALENDAR
VERSION:2.0
PRODID:icalendar-ruby
CALSCALE:GREGORIAN
BEGIN:VEVENT
DTSTAMP:20210119T115912Z
UID:7d79fa03-ae9c-4ef7-adb7-e2ce0c5c3d2e
DTSTART;TZID=Pacific/Auckland:20210123T130000
DTEND;TZID=Pacific/Auckland:20210123T140000
DESCRIPTION:Property ID# 499891
SUMMARY:Openhome for 1/435 Bower Avenue
END:VEVENT
END:VCALENDAR
