BEGIN:VCALENDAR
VERSION:2.0
PRODID:icalendar-ruby
CALSCALE:GREGORIAN
BEGIN:VEVENT
DTSTAMP:20260420T142943Z
UID:e0cebcf6-84d2-4894-9949-b2a6f2c45469
DTSTART;VALUE=DATE:20231214
DESCRIPTION:Property ID# 566980\, Locatoin: Gold auction rooms\, Time: 12:0
 0PM
SUMMARY:Auction for 
END:VEVENT
END:VCALENDAR
